BEGIN:VCALENDAR
VERSION:2.0
PRODID:-//GodaHus - ECPv6.15.20//NONSGML v1.0//EN
CALSCALE:GREGORIAN
METHOD:PUBLISH
X-WR-CALNAME:GodaHus
X-ORIGINAL-URL:https://www.godahus.se
X-WR-CALDESC:Händelser för GodaHus
REFRESH-INTERVAL;VALUE=DURATION:PT1H
X-Robots-Tag:noindex
X-PUBLISHED-TTL:PT1H
BEGIN:VTIMEZONE
TZID:UTC
BEGIN:STANDARD
TZOFFSETFROM:+0000
TZOFFSETTO:+0000
TZNAME:UTC
DTSTART:20250101T000000
END:STANDARD
END:VTIMEZONE
BEGIN:VEVENT
DTSTART;TZID=UTC:20260428T120000
DTEND;TZID=UTC:20260428T130000
DTSTAMP:20260423T101259
CREATED:20260309T073450Z
LAST-MODIFIED:20260309T073549Z
UID:7161-1777377600-1777381200@www.godahus.se
SUMMARY:CEE: Lunchseminarium: Klimatkrav och anvisningar för LCA av byggprojekt
DESCRIPTION:  \n  \n  \n  \n  \n  \n  \n  \n  \n  \n  \n  \nUpplever du att klimatrelaterade regler och rapporteringskrav i byggsektorn blir allt mer komplexa? Välkommen till ett lunchseminarium där vi reder ut vad som gäller och hur klimataspekter kan integreras i byggprojekt. \nTisdag 28 april\nKl. 12.00–13.00\nOnline via Teams \nSeminariet leds av Bojana Petrovic\, senior hållbarhetsexpert från IVL Svenska Miljöinstitutet\, med lång erfarenhet av LCA för både nybyggnation och renoveringsprojekt. \nUnder seminariet går vi bland annat igenom:\n• Klimatkrav från Boverket\n• Översikt över gällande klimatkrav och kommande gränsvärden\n• Den reviderade EPBD (Energiprestandadirektivet) och hel-LCA på EU-nivå\n• Hur LCA används i praktiken och hur det kan kopplas till LCC-analyser för bättre ekonomiska beslut \nVi avslutar med en kort frågestund där du får möjlighet att ställa frågor och diskutera. \nAnmäl dig här! \nSeminariet ingår i CEE-projektet som drivs av GodaHus och Linnéuniversitetet Projektet finansieras av Tillväxtverket\, Region Kalmar län och Region Kronoberg. \n  \n 
URL:https://www.godahus.se/event/lunchseminarium-klimatkrav-och-anvisningar-for-lca-av-byggprojekt/
ATTACH;FMTTYPE=image/png:https://www.godahus.se/wp-content/uploads/Namnlos-design-19.png
END:VEVENT
BEGIN:VEVENT
DTSTART;TZID=UTC:20260429T090000
DTEND;TZID=UTC:20260429T110000
DTSTAMP:20260423T101259
CREATED:20260216T163559Z
LAST-MODIFIED:20260226T085359Z
UID:7094-1777453200-1777460400@www.godahus.se
SUMMARY:ROBB 5 - Rörinstallationer (CEE)
DESCRIPTION:Online via Teams. \n  \n 
URL:https://www.godahus.se/event/robb-utbildningstillfalle-5/
END:VEVENT
END:VCALENDAR