BEGIN:VCALENDAR
VERSION:2.0
PRODID:-//GodaHus - ECPv6.15.20//NONSGML v1.0//EN
CALSCALE:GREGORIAN
METHOD:PUBLISH
X-WR-CALNAME:GodaHus
X-ORIGINAL-URL:https://www.godahus.se
X-WR-CALDESC:Händelser för GodaHus
REFRESH-INTERVAL;VALUE=DURATION:PT1H
X-Robots-Tag:noindex
X-PUBLISHED-TTL:PT1H
BEGIN:VTIMEZONE
TZID:UTC
BEGIN:STANDARD
TZOFFSETFROM:+0000
TZOFFSETTO:+0000
TZNAME:UTC
DTSTART:20250101T000000
END:STANDARD
END:VTIMEZONE
BEGIN:VEVENT
DTSTART;TZID=UTC:20260513T090000
DTEND;TZID=UTC:20260513T110000
DTSTAMP:20260425T122559
CREATED:20260216T163713Z
LAST-MODIFIED:20260226T085311Z
UID:7096-1778662800-1778670000@www.godahus.se
SUMMARY:ROBB 6 - Ventilation och värme (CEE)
DESCRIPTION:Online via Teams \n  \n 
URL:https://www.godahus.se/event/robb-utbildningstillfalle-6/
END:VEVENT
END:VCALENDAR