BEGIN:VCALENDAR
VERSION:2.0
PRODID:-//GodaHus - ECPv6.15.20//NONSGML v1.0//EN
CALSCALE:GREGORIAN
METHOD:PUBLISH
X-ORIGINAL-URL:https://www.godahus.se
X-WR-CALDESC:Händelser för GodaHus
REFRESH-INTERVAL;VALUE=DURATION:PT1H
X-Robots-Tag:noindex
X-PUBLISHED-TTL:PT1H
BEGIN:VTIMEZONE
TZID:UTC
BEGIN:STANDARD
TZOFFSETFROM:+0000
TZOFFSETTO:+0000
TZNAME:UTC
DTSTART:20250101T000000
END:STANDARD
END:VTIMEZONE
BEGIN:VEVENT
DTSTART;TZID=UTC:20260505T130000
DTEND;TZID=UTC:20260505T153000
DTSTAMP:20260425T121238
CREATED:20260218T125753Z
LAST-MODIFIED:20260416T101539Z
UID:7112-1777986000-1777995000@www.godahus.se
SUMMARY:CTB: Initiativ för cirkulärt byggande
DESCRIPTION:VÄLKOMNA\nGodaHus och Växjö kommun bjuder tillsammans in till “startskottet” för Initiativet cirkulärt byggande – en fördjupning av Växjödeklarationen. \nEtt unikt tillfälle där aktörer som vill öka det cirkulära byggandet är på plats. Här ges möjlighet att nätverka och ta del av erfarenheter från Sveriges första Svanenmärkta renovering – med både ekonomiska och fina\nmiljömässiga resultat. Vi får också en inblick i hur aktörer i Göteborg har arbetat med liknande initiativ för att accelerera utvecklingen av den cirkulära byggmarknaden i Västra Götalandsregionen. \nProgram mellan kl: 13.00-15.30 \nMedverkar gör bl.a:\nVäxjö Linnaeus Science Park – Lena Öhrlund\nRonnebyhus – Martin Lindström\nPEAB – Kristina Reimhult\nVolvo Cars – Josef Andersen \nVi ses på Växjö Linnaeus Science Park på Framtidsvägen 14 i Växjö. \n 
URL:https://www.godahus.se/event/ctp-deklaration-for-cirkulart-byggande/
LOCATION:Växjö Linnaeus Science Park\, Framtidsvägen 14\, Växjö
END:VEVENT
END:VCALENDAR