BEGIN:VCALENDAR
VERSION:2.0
PRODID:-//GodaHus - ECPv6.15.20//NONSGML v1.0//EN
CALSCALE:GREGORIAN
METHOD:PUBLISH
X-WR-CALNAME:GodaHus
X-ORIGINAL-URL:https://www.godahus.se
X-WR-CALDESC:Händelser för GodaHus
REFRESH-INTERVAL;VALUE=DURATION:PT1H
X-Robots-Tag:noindex
X-PUBLISHED-TTL:PT1H
BEGIN:VTIMEZONE
TZID:UTC
BEGIN:STANDARD
TZOFFSETFROM:+0000
TZOFFSETTO:+0000
TZNAME:UTC
DTSTART:20250101T000000
END:STANDARD
END:VTIMEZONE
BEGIN:VEVENT
DTSTART;TZID=UTC:20260401T090000
DTEND;TZID=UTC:20260401T110000
DTSTAMP:20260425T105037
CREATED:20260216T163320Z
LAST-MODIFIED:20260226T085527Z
UID:7090-1775034000-1775041200@www.godahus.se
SUMMARY:ROBB 3 - Individuell mätning och debitering (CEE)
DESCRIPTION:Online via teams \n  \n 
URL:https://www.godahus.se/event/robb-utbildningstillfalle-3/
END:VEVENT
END:VCALENDAR